BEGIN:VCALENDAR
VERSION:2.0
PRODID:-//Kehilat Kedem - ECPv6.15.16//NONSGML v1.0//EN
CALSCALE:GREGORIAN
METHOD:PUBLISH
X-ORIGINAL-URL:https://xn--communaut-juive-montpellier-joc.fr
X-WR-CALDESC:Événements pour Kehilat Kedem
REFRESH-INTERVAL;VALUE=DURATION:PT1H
X-Robots-Tag:noindex
X-PUBLISHED-TTL:PT1H
BEGIN:VTIMEZONE
TZID:Europe/Paris
BEGIN:DAYLIGHT
TZOFFSETFROM:+0100
TZOFFSETTO:+0200
TZNAME:CEST
DTSTART:20240331T010000
END:DAYLIGHT
BEGIN:STANDARD
TZOFFSETFROM:+0200
TZOFFSETTO:+0100
TZNAME:CET
DTSTART:20241027T010000
END:STANDARD
BEGIN:DAYLIGHT
TZOFFSETFROM:+0100
TZOFFSETTO:+0200
TZNAME:CEST
DTSTART:20250330T010000
END:DAYLIGHT
BEGIN:STANDARD
TZOFFSETFROM:+0200
TZOFFSETTO:+0100
TZNAME:CET
DTSTART:20251026T010000
END:STANDARD
BEGIN:DAYLIGHT
TZOFFSETFROM:+0100
TZOFFSETTO:+0200
TZNAME:CEST
DTSTART:20260329T010000
END:DAYLIGHT
BEGIN:STANDARD
TZOFFSETFROM:+0200
TZOFFSETTO:+0100
TZNAME:CET
DTSTART:20261025T010000
END:STANDARD
END:VTIMEZONE
BEGIN:VEVENT
DTSTART;TZID=Europe/Paris:20250403T190000
DTEND;TZID=Europe/Paris:20250403T210000
DTSTAMP:20260425T211139
CREATED:20250320T192352Z
LAST-MODIFIED:20250320T193100Z
UID:11611-1743706800-1743714000@xn--communaut-juive-montpellier-joc.fr
SUMMARY:"L’action dans la Kabbale : la solidarité\, cœur de la relation à Dieu ? " Zohar III\, 113 a et b
DESCRIPTION:Conférence de l’AJCN.\nEtude de la Kabbale\, avec Edouard ROBBERECHTS\, Maitre de conférences en philosophie juive à l’UAM. \nEntrée adhérents AJCN : 10€ / Tout public : 12€ / Etudiants : gratuit \nJeudi 03 avril 2025\, 19h\, Grange du Monastère des Clarisses\, 34 rue de Brunswick\, Nîmes
URL:https://xn--communaut-juive-montpellier-joc.fr/evenement/laction-dans-la-kabbale-la-solidarite-coeur-de-la-relation-a-dieu-zohar-iii-113-a-et-b/
CATEGORIES:Conférences,Rencontres
END:VEVENT
END:VCALENDAR