BEGIN:VCALENDAR
VERSION:2.0
PRODID:-//Kehilat Kedem - ECPv6.15.16//NONSGML v1.0//EN
CALSCALE:GREGORIAN
METHOD:PUBLISH
X-ORIGINAL-URL:https://xn--communaut-juive-montpellier-joc.fr
X-WR-CALDESC:Événements pour Kehilat Kedem
REFRESH-INTERVAL;VALUE=DURATION:PT1H
X-Robots-Tag:noindex
X-PUBLISHED-TTL:PT1H
BEGIN:VTIMEZONE
TZID:Europe/Paris
BEGIN:DAYLIGHT
TZOFFSETFROM:+0100
TZOFFSETTO:+0200
TZNAME:CEST
DTSTART:20230326T010000
END:DAYLIGHT
BEGIN:STANDARD
TZOFFSETFROM:+0200
TZOFFSETTO:+0100
TZNAME:CET
DTSTART:20231029T010000
END:STANDARD
BEGIN:DAYLIGHT
TZOFFSETFROM:+0100
TZOFFSETTO:+0200
TZNAME:CEST
DTSTART:20240331T010000
END:DAYLIGHT
BEGIN:STANDARD
TZOFFSETFROM:+0200
TZOFFSETTO:+0100
TZNAME:CET
DTSTART:20241027T010000
END:STANDARD
BEGIN:DAYLIGHT
TZOFFSETFROM:+0100
TZOFFSETTO:+0200
TZNAME:CEST
DTSTART:20250330T010000
END:DAYLIGHT
BEGIN:STANDARD
TZOFFSETFROM:+0200
TZOFFSETTO:+0100
TZNAME:CET
DTSTART:20251026T010000
END:STANDARD
END:VTIMEZONE
BEGIN:VEVENT
DTSTART;TZID=Europe/Paris:20240531T080000
DTEND;TZID=Europe/Paris:20240601T170000
DTSTAMP:20260421T125756
CREATED:20240508T135258Z
LAST-MODIFIED:20240508T135258Z
UID:8913-1717142400-1717261200@xn--communaut-juive-montpellier-joc.fr
SUMMARY:Shabbat hors-les-murs à Cavaillon\, avec la communauté juive libérale de Marseille
DESCRIPTION:
URL:https://xn--communaut-juive-montpellier-joc.fr/evenement/shabbat-hors-les-murs-a-cavaillon-avec-la-communaute-juive-liberale-de-marseille/
CATEGORIES:Offices,Shabbat
END:VEVENT
BEGIN:VEVENT
DTSTART;TZID=Europe/Paris:20240607T190000
DTEND;TZID=Europe/Paris:20240607T190000
DTSTAMP:20260421T125756
CREATED:20240508T135650Z
LAST-MODIFIED:20240508T135650Z
UID:8919-1717786800-1717786800@xn--communaut-juive-montpellier-joc.fr
SUMMARY:Kabbalat shabbat : office participatif
DESCRIPTION:
URL:https://xn--communaut-juive-montpellier-joc.fr/evenement/kabbalat-shabbat-office-participatif-4/
CATEGORIES:Offices,Shabbat
END:VEVENT
BEGIN:VEVENT
DTSTART;TZID=Europe/Paris:20240611T190000
DTEND;TZID=Europe/Paris:20240611T220000
DTSTAMP:20260421T125756
CREATED:20240508T135435Z
LAST-MODIFIED:20240605T110501Z
UID:8915-1718132400-1718143200@xn--communaut-juive-montpellier-joc.fr
SUMMARY:Shavuot
DESCRIPTION:Office participatif – mardi 11 juin 2024\n\n19h00 : office\n19h45 : repas partagé : chacun porte un plat lacté\, sucré ou salé\, et on partage. Lecture du livre de Ruth.\nAprès la lecture : discussion et débat : cette année\, JeM a choisi Am Israel Haï comme thème de Shavouot. Que signifie le Am Israel ? Que signifie le fait d’y appartenir ? Amenez les textes qui vous inspirent ou vous interrogent\, les réflexions qui vous traversent\, et partagez avec tous…
URL:https://xn--communaut-juive-montpellier-joc.fr/evenement/shavuot/
CATEGORIES:Offices,Shabbat
END:VEVENT
BEGIN:VEVENT
DTSTART;TZID=Europe/Paris:20240614T190000
DTEND;TZID=Europe/Paris:20240615T190000
DTSTAMP:20260421T125756
CREATED:20240508T135559Z
LAST-MODIFIED:20240613T070546Z
UID:8917-1718391600-1718478000@xn--communaut-juive-montpellier-joc.fr
SUMMARY:Offices de shabbat en ligne\, avec JeM
DESCRIPTION:15-16 juin 2024 / 9 Sivan 5784\n\nParasha : Nasso (Nombres 4:21-7:89)\nHaftara : Juges 13:2-25\n\n\n\nOffices en ligne\, avec JeM. Incriptions ici.
URL:https://xn--communaut-juive-montpellier-joc.fr/evenement/offices-de-shabbat-en-ligne-avec-jem-3/
CATEGORIES:Offices,Shabbat
END:VEVENT
BEGIN:VEVENT
DTSTART;TZID=Europe/Paris:20240621T190000
DTEND;TZID=Europe/Paris:20240622T190000
DTSTAMP:20260421T125756
CREATED:20240508T135758Z
LAST-MODIFIED:20240619T114525Z
UID:8921-1718996400-1719082800@xn--communaut-juive-montpellier-joc.fr
SUMMARY:Shabbat plein\, avec Sophie Bismut
DESCRIPTION:21/22 juin 2024 / 16 Sivan 5784\nShabbat plein\, avec Sophie Bismut\n\nParasha : Behaalotekha (Nombres 8:1-12:16)\nHaftara : Zacharie 2:14-4:7\, Josué 3:3-8\, 3:17-4:7\n\nVendredi\, 19h00 : Kabbalat shabbat\nSamedi\, 10h00 : office du samedi \nNotes : le repas communautaire initialement prévu vendredi soir est reporté à la semaine prochaine. En raison d’horaires contraints\, le cours de liturgie initialement prévu samedi est reporté à la rentrée.  \n 
URL:https://xn--communaut-juive-montpellier-joc.fr/evenement/shabbat-plein-avec-sophie-bismut/
CATEGORIES:Offices,Shabbat
END:VEVENT
BEGIN:VEVENT
DTSTART;TZID=Europe/Paris:20240628T190000
DTEND;TZID=Europe/Paris:20240629T190000
DTSTAMP:20260421T125756
CREATED:20240508T135839Z
LAST-MODIFIED:20240626T140759Z
UID:8923-1719601200-1719687600@xn--communaut-juive-montpellier-joc.fr
SUMMARY:Shabbat plein et repas communautaires partagés  avec le rabbin Haïm Cipriani
DESCRIPTION:28 & 29 juin 2024 / 23 Sivan 5784\nShabbat plein\, avec Haïm Cipriani. \n\nParasha : Chelah Lekha (Nombres 13:1-15:41)\nHaftarah : Josué 2:1-24\, Josué 14 6-15\n\n\nVendredi soir\, 19h00 : Kabbalat shabbat\, suivi d’un repas communautaire partagé. \nSamedi\, 10h00 : Office\nSamedi\, 12h00 : Kiddush\nRepas communautaire partagé\nSamedi\, 12h45-13h45 : enseignement
URL:https://xn--communaut-juive-montpellier-joc.fr/evenement/shabbat-plein-avec-le-rabbin-haim-cipriani/
CATEGORIES:Offices,Shabbat
END:VEVENT
END:VCALENDAR