BEGIN:VCALENDAR
VERSION:2.0
PRODID:-//Kehilat Kedem - ECPv6.15.16//NONSGML v1.0//EN
CALSCALE:GREGORIAN
METHOD:PUBLISH
X-WR-CALNAME:Kehilat Kedem
X-ORIGINAL-URL:https://xn--communaut-juive-montpellier-joc.fr
X-WR-CALDESC:Événements pour Kehilat Kedem
REFRESH-INTERVAL;VALUE=DURATION:PT1H
X-Robots-Tag:noindex
X-PUBLISHED-TTL:PT1H
BEGIN:VTIMEZONE
TZID:Europe/Paris
BEGIN:DAYLIGHT
TZOFFSETFROM:+0100
TZOFFSETTO:+0200
TZNAME:CEST
DTSTART:20230326T010000
END:DAYLIGHT
BEGIN:STANDARD
TZOFFSETFROM:+0200
TZOFFSETTO:+0100
TZNAME:CET
DTSTART:20231029T010000
END:STANDARD
BEGIN:DAYLIGHT
TZOFFSETFROM:+0100
TZOFFSETTO:+0200
TZNAME:CEST
DTSTART:20240331T010000
END:DAYLIGHT
BEGIN:STANDARD
TZOFFSETFROM:+0200
TZOFFSETTO:+0100
TZNAME:CET
DTSTART:20241027T010000
END:STANDARD
BEGIN:DAYLIGHT
TZOFFSETFROM:+0100
TZOFFSETTO:+0200
TZNAME:CEST
DTSTART:20250330T010000
END:DAYLIGHT
BEGIN:STANDARD
TZOFFSETFROM:+0200
TZOFFSETTO:+0100
TZNAME:CET
DTSTART:20251026T010000
END:STANDARD
END:VTIMEZONE
BEGIN:VEVENT
DTSTART;TZID=Europe/Paris:20240802T190000
DTEND;TZID=Europe/Paris:20240803T200000
DTSTAMP:20260421T102652
CREATED:20240703T140817Z
LAST-MODIFIED:20240703T141215Z
UID:9309-1722625200-1722715200@xn--communaut-juive-montpellier-joc.fr
SUMMARY:Office en ligne\, avec JeM
DESCRIPTION:Offices en ligne\, avec JeM. Incriptions ici.
URL:https://xn--communaut-juive-montpellier-joc.fr/evenement/office-en-ligne-avec-jem-6/
CATEGORIES:Offices,Shabbat
END:VEVENT
BEGIN:VEVENT
DTSTART;TZID=Europe/Paris:20240809T080000
DTEND;TZID=Europe/Paris:20240810T170000
DTSTAMP:20260421T102652
CREATED:20240703T140848Z
LAST-MODIFIED:20240703T140848Z
UID:9310-1723190400-1723309200@xn--communaut-juive-montpellier-joc.fr
SUMMARY:Office en ligne\, avec JeM
DESCRIPTION:Offices en ligne\, avec JeM. Incriptions ici.
URL:https://xn--communaut-juive-montpellier-joc.fr/evenement/office-en-ligne-avec-jem-7/
CATEGORIES:Offices,Shabbat
END:VEVENT
BEGIN:VEVENT
DTSTART;TZID=Europe/Paris:20240816T190000
DTEND;TZID=Europe/Paris:20240817T190000
DTSTAMP:20260421T102652
CREATED:20240703T140928Z
LAST-MODIFIED:20240703T141211Z
UID:9311-1723834800-1723921200@xn--communaut-juive-montpellier-joc.fr
SUMMARY:Office en ligne\, avec JeM
DESCRIPTION:Offices en ligne\, avec JeM. Incriptions ici.
URL:https://xn--communaut-juive-montpellier-joc.fr/evenement/office-en-ligne-avec-jem-8/
CATEGORIES:Offices,Shabbat
END:VEVENT
BEGIN:VEVENT
DTSTART;TZID=Europe/Paris:20240823T190000
DTEND;TZID=Europe/Paris:20240824T190000
DTSTAMP:20260421T102652
CREATED:20240703T141209Z
LAST-MODIFIED:20240703T141209Z
UID:9312-1724439600-1724526000@xn--communaut-juive-montpellier-joc.fr
SUMMARY:Office en ligne\, avec JeM
DESCRIPTION:Offices en ligne\, avec JeM. Incriptions ici.
URL:https://xn--communaut-juive-montpellier-joc.fr/evenement/office-en-ligne-avec-jem-9/
CATEGORIES:Offices,Shabbat
END:VEVENT
BEGIN:VEVENT
DTSTART;TZID=Europe/Paris:20240830T190000
DTEND;TZID=Europe/Paris:20240830T203000
DTSTAMP:20260421T102652
CREATED:20240827T144111Z
LAST-MODIFIED:20240828T155717Z
UID:9773-1725044400-1725049800@xn--communaut-juive-montpellier-joc.fr
SUMMARY:Office de rentrée : Kabbalat shabbat participatif
DESCRIPTION:30-31 août 2024 / 27 Av 5784\n\nParasha : Re’eh (Deutéronome 11:26-16:17)\nHaftarah : Isaïe 43:1-10\, 54:11-55:5\n\nOffice en présence\, vendredi soir à 19h00.
URL:https://xn--communaut-juive-montpellier-joc.fr/evenement/office-de-rentree-kabbalat-shabbat-participatif/
CATEGORIES:Offices,Shabbat
END:VEVENT
END:VCALENDAR