BEGIN:VCALENDAR
VERSION:2.0
PRODID:-//Kehilat Kedem - ECPv6.15.16//NONSGML v1.0//EN
CALSCALE:GREGORIAN
METHOD:PUBLISH
X-WR-CALNAME:Kehilat Kedem
X-ORIGINAL-URL:https://xn--communaut-juive-montpellier-joc.fr
X-WR-CALDESC:Événements pour Kehilat Kedem
REFRESH-INTERVAL;VALUE=DURATION:PT1H
X-Robots-Tag:noindex
X-PUBLISHED-TTL:PT1H
BEGIN:VTIMEZONE
TZID:Europe/Paris
BEGIN:DAYLIGHT
TZOFFSETFROM:+0100
TZOFFSETTO:+0200
TZNAME:CEST
DTSTART:20230326T010000
END:DAYLIGHT
BEGIN:STANDARD
TZOFFSETFROM:+0200
TZOFFSETTO:+0100
TZNAME:CET
DTSTART:20231029T010000
END:STANDARD
BEGIN:DAYLIGHT
TZOFFSETFROM:+0100
TZOFFSETTO:+0200
TZNAME:CEST
DTSTART:20240331T010000
END:DAYLIGHT
BEGIN:STANDARD
TZOFFSETFROM:+0200
TZOFFSETTO:+0100
TZNAME:CET
DTSTART:20241027T010000
END:STANDARD
BEGIN:DAYLIGHT
TZOFFSETFROM:+0100
TZOFFSETTO:+0200
TZNAME:CEST
DTSTART:20250330T010000
END:DAYLIGHT
BEGIN:STANDARD
TZOFFSETFROM:+0200
TZOFFSETTO:+0100
TZNAME:CET
DTSTART:20251026T010000
END:STANDARD
END:VTIMEZONE
BEGIN:VEVENT
DTSTART;TZID=Europe/Paris:20240712T190000
DTEND;TZID=Europe/Paris:20240712T220000
DTSTAMP:20260421T125907
CREATED:20240703T141347Z
LAST-MODIFIED:20240710T190902Z
UID:9319-1720810800-1720821600@xn--communaut-juive-montpellier-joc.fr
SUMMARY:Office hors-les-murs
DESCRIPTION:12-13 juillet 2024 / 7 Tamuz 5784\n\nParasha : Houkat (Nombres 19:1-22:1)\nHaftarah : Juges 11:1-33\n\n\n\n\n\n\nKehilat Kedem a l’immense joie d’annonce que notre communauté et le klal israel comptent désormais de nouveaux membres. Lors de ce Kabbalat shabbat hors-les-murs\, festif et convivial\, nous célébrerons ensemble l’arrivée parmi nous d’Arié\, de Sarah\, de Daniel\, de Sim’ha\, de Rachel\, de Gabrielle. \nOffice en plein air\, suivi d’un repas communautaire partagé : chacun apporte un plat\, salé ou sucré\, ainsi que quelque chose à boire\, et on partage ! Repas kasher et sans viande. \nA Saint-Gely-du-Fesc\, chez Françoise. Adresse communiquée aux membres de la communauté.
URL:https://xn--communaut-juive-montpellier-joc.fr/evenement/office-hors-les-murs-2/
CATEGORIES:Offices,Shabbat
END:VEVENT
END:VCALENDAR