BEGIN:VCALENDAR
VERSION:2.0
PRODID:-//Kehilat Kedem - ECPv6.15.16//NONSGML v1.0//EN
CALSCALE:GREGORIAN
METHOD:PUBLISH
X-WR-CALNAME:Kehilat Kedem
X-ORIGINAL-URL:https://xn--communaut-juive-montpellier-joc.fr
X-WR-CALDESC:Événements pour Kehilat Kedem
REFRESH-INTERVAL;VALUE=DURATION:PT1H
X-Robots-Tag:noindex
X-PUBLISHED-TTL:PT1H
BEGIN:VTIMEZONE
TZID:Europe/Paris
BEGIN:DAYLIGHT
TZOFFSETFROM:+0100
TZOFFSETTO:+0200
TZNAME:CEST
DTSTART:20230326T010000
END:DAYLIGHT
BEGIN:STANDARD
TZOFFSETFROM:+0200
TZOFFSETTO:+0100
TZNAME:CET
DTSTART:20231029T010000
END:STANDARD
BEGIN:DAYLIGHT
TZOFFSETFROM:+0100
TZOFFSETTO:+0200
TZNAME:CEST
DTSTART:20240331T010000
END:DAYLIGHT
BEGIN:STANDARD
TZOFFSETFROM:+0200
TZOFFSETTO:+0100
TZNAME:CET
DTSTART:20241027T010000
END:STANDARD
BEGIN:DAYLIGHT
TZOFFSETFROM:+0100
TZOFFSETTO:+0200
TZNAME:CEST
DTSTART:20250330T010000
END:DAYLIGHT
BEGIN:STANDARD
TZOFFSETFROM:+0200
TZOFFSETTO:+0100
TZNAME:CET
DTSTART:20251026T010000
END:STANDARD
END:VTIMEZONE
BEGIN:VEVENT
DTSTART;TZID=Europe/Paris:20241219T190000
DTEND;TZID=Europe/Paris:20241219T210000
DTSTAMP:20260421T132459
CREATED:20241203T122600Z
LAST-MODIFIED:20241203T123309Z
UID:10700-1734634800-1734642000@xn--communaut-juive-montpellier-joc.fr
SUMMARY:Isaac et Rebecca : naissance de l'amour\, un entre-deux divin
DESCRIPTION:Conférence de l’AJCN Nîmes. \n« Cycle D’une alliance à l’autre\, de Noé à Abraham »\, avec Edouard Robberechts\, Maître de conférences en philosophie juive à l’UMA. Une lecture inédite à partir des maîtres du Talmud et de la Kabbale. \nAu Centre Culturel Sarah et Aimé Grumbach\, 5 rue d’Angoulême\, Nîmes \nEntrée : Tout public : 12 € – Adhérents : 10 € – Etudiants – Religieux : gratuit \nParking plus facile sous l’Esplanade
URL:https://xn--communaut-juive-montpellier-joc.fr/evenement/isaac-et-rebecca-naissance-de-lamour-un-entre-deux-divin/
CATEGORIES:Conférences,Rencontres
END:VEVENT
END:VCALENDAR