BEGIN:VCALENDAR
VERSION:2.0
PRODID:-//Kehilat Kedem - ECPv6.15.16//NONSGML v1.0//EN
CALSCALE:GREGORIAN
METHOD:PUBLISH
X-WR-CALNAME:Kehilat Kedem
X-ORIGINAL-URL:https://xn--communaut-juive-montpellier-joc.fr
X-WR-CALDESC:Événements pour Kehilat Kedem
REFRESH-INTERVAL;VALUE=DURATION:PT1H
X-Robots-Tag:noindex
X-PUBLISHED-TTL:PT1H
BEGIN:VTIMEZONE
TZID:Europe/Paris
BEGIN:DAYLIGHT
TZOFFSETFROM:+0100
TZOFFSETTO:+0200
TZNAME:CEST
DTSTART:20240331T010000
END:DAYLIGHT
BEGIN:STANDARD
TZOFFSETFROM:+0200
TZOFFSETTO:+0100
TZNAME:CET
DTSTART:20241027T010000
END:STANDARD
BEGIN:DAYLIGHT
TZOFFSETFROM:+0100
TZOFFSETTO:+0200
TZNAME:CEST
DTSTART:20250330T010000
END:DAYLIGHT
BEGIN:STANDARD
TZOFFSETFROM:+0200
TZOFFSETTO:+0100
TZNAME:CET
DTSTART:20251026T010000
END:STANDARD
BEGIN:DAYLIGHT
TZOFFSETFROM:+0100
TZOFFSETTO:+0200
TZNAME:CEST
DTSTART:20260329T010000
END:DAYLIGHT
BEGIN:STANDARD
TZOFFSETFROM:+0200
TZOFFSETTO:+0100
TZNAME:CET
DTSTART:20261025T010000
END:STANDARD
END:VTIMEZONE
BEGIN:VEVENT
DTSTART;VALUE=DATE:20250113
DTEND;VALUE=DATE:20250114
DTSTAMP:20260421T114057
CREATED:20240827T122713Z
LAST-MODIFIED:20240827T122713Z
UID:9748-1736726400-1736812799@xn--communaut-juive-montpellier-joc.fr
SUMMARY:Racines juives du christianisme : une journée d'études avec le rabbin Philippe Haddad - Journée 1
DESCRIPTION:Le judaïsme et le christianisme se reconnaissent héritiers de la Bible hébraïque\, avec leur spécificité de foi. Notre thème ‘tradition et modernité’ veut explorer la manière dont les valeurs et les pratiques ancestrales coexistent et s’adaptent aux évolutions contemporaines. Qu’est-ce que la modernité ? La post-modernité ? Sont-elles toujours synonymes de progrès moral ? Compatibles avec nos fois ? Le christianisme est-il la modernité du judaïsme ? Judaïsme et christianisme ont-ils des défis spécifiques à relever séparément et ensemble ? Comment harmoniser la mémoire ancestrale avec notre monde contemporain ? En 3 journées d’étude\, nous interrogerons la Bible hébraïque\, les Evangiles\, l’Histoire\, en convoquant les penseurs de la modernité. \nTrois journées : 13 janvier\, 10 mars\, 19 mai. Possibilité de ne s’inscrire qu’à une partie du cycle. \nEn présence\, chez les frères de Sion\, 68 bis rue ND de Champs – 75006 PARIS\nOu par Zoom \nBulletin d’inscription : ICI
URL:https://xn--communaut-juive-montpellier-joc.fr/evenement/racines-juives-du-christianisme-une-journee-detudes-avec-le-rabbin-philippe-haddad-journee-1/
CATEGORIES:Etudes,Rencontres
END:VEVENT
END:VCALENDAR