BEGIN:VCALENDAR
VERSION:2.0
PRODID:-//Kehilat Kedem - ECPv6.15.16//NONSGML v1.0//EN
CALSCALE:GREGORIAN
METHOD:PUBLISH
X-ORIGINAL-URL:https://xn--communaut-juive-montpellier-joc.fr
X-WR-CALDESC:Événements pour Kehilat Kedem
REFRESH-INTERVAL;VALUE=DURATION:PT1H
X-Robots-Tag:noindex
X-PUBLISHED-TTL:PT1H
BEGIN:VTIMEZONE
TZID:Europe/Paris
BEGIN:DAYLIGHT
TZOFFSETFROM:+0100
TZOFFSETTO:+0200
TZNAME:CEST
DTSTART:20240331T010000
END:DAYLIGHT
BEGIN:STANDARD
TZOFFSETFROM:+0200
TZOFFSETTO:+0100
TZNAME:CET
DTSTART:20241027T010000
END:STANDARD
BEGIN:DAYLIGHT
TZOFFSETFROM:+0100
TZOFFSETTO:+0200
TZNAME:CEST
DTSTART:20250330T010000
END:DAYLIGHT
BEGIN:STANDARD
TZOFFSETFROM:+0200
TZOFFSETTO:+0100
TZNAME:CET
DTSTART:20251026T010000
END:STANDARD
BEGIN:DAYLIGHT
TZOFFSETFROM:+0100
TZOFFSETTO:+0200
TZNAME:CEST
DTSTART:20260329T010000
END:DAYLIGHT
BEGIN:STANDARD
TZOFFSETFROM:+0200
TZOFFSETTO:+0100
TZNAME:CET
DTSTART:20261025T010000
END:STANDARD
END:VTIMEZONE
BEGIN:VEVENT
DTSTART;TZID=Europe/Paris:20250224T190000
DTEND;TZID=Europe/Paris:20250224T200000
DTSTAMP:20260421T130204
CREATED:20250224T101847Z
LAST-MODIFIED:20250224T101910Z
UID:11425-1740423600-1740427200@xn--communaut-juive-montpellier-joc.fr
SUMMARY:Rassemblement de recueillement pour les otages dont les corps ont été restitués
DESCRIPTION:Le collectif pour la libération des otages de Montpellier appelle à un rassemblement de recueillement pour tous ceux qui souhaitent témoigner de leur soutien aux familles des otages dont les corps ont été restitués à Israël. \nParvis de l’opéra – Place de la Comédie – 19h00
URL:https://xn--communaut-juive-montpellier-joc.fr/evenement/rassemblement-de-recueillement-pour-les-otages-dont-les-corps-ont-ete-restitues/
CATEGORIES:Rencontres
END:VEVENT
END:VCALENDAR